BEGIN:VCALENDAR
VERSION:2.0
PRODID:-//St. Mary&#039;s, Ballybeen - ECPv6.15.20//NONSGML v1.0//EN
CALSCALE:GREGORIAN
METHOD:PUBLISH
X-WR-CALNAME:St. Mary&#039;s, Ballybeen
X-ORIGINAL-URL:https://www.stmarysballybeen.com
X-WR-CALDESC:Events for St. Mary&#039;s, Ballybeen
REFRESH-INTERVAL;VALUE=DURATION:PT1H
X-Robots-Tag:noindex
X-PUBLISHED-TTL:PT1H
BEGIN:VTIMEZONE
TZID:Europe/London
BEGIN:DAYLIGHT
TZOFFSETFROM:+0000
TZOFFSETTO:+0100
TZNAME:BST
DTSTART:20210328T010000
END:DAYLIGHT
BEGIN:STANDARD
TZOFFSETFROM:+0100
TZOFFSETTO:+0000
TZNAME:GMT
DTSTART:20211031T010000
END:STANDARD
BEGIN:DAYLIGHT
TZOFFSETFROM:+0000
TZOFFSETTO:+0100
TZNAME:BST
DTSTART:20220327T010000
END:DAYLIGHT
BEGIN:STANDARD
TZOFFSETFROM:+0100
TZOFFSETTO:+0000
TZNAME:GMT
DTSTART:20221030T010000
END:STANDARD
BEGIN:DAYLIGHT
TZOFFSETFROM:+0000
TZOFFSETTO:+0100
TZNAME:BST
DTSTART:20230326T010000
END:DAYLIGHT
BEGIN:STANDARD
TZOFFSETFROM:+0100
TZOFFSETTO:+0000
TZNAME:GMT
DTSTART:20231029T010000
END:STANDARD
END:VTIMEZONE
BEGIN:VEVENT
DTSTART;TZID=Europe/London:20220830T190000
DTEND;TZID=Europe/London:20220830T200000
DTSTAMP:20260420T171215
CREATED:20220820T230120Z
LAST-MODIFIED:20220820T230121Z
UID:2316-1661886000-1661889600@www.stmarysballybeen.com
SUMMARY:BB & GB Registration Night
DESCRIPTION:
URL:https://www.stmarysballybeen.com/event/bb-gb-registration-night/
LOCATION:St. Mary’s\, Ballybeen
CATEGORIES:Children's Ministry
ATTACH;FMTTYPE=image/png:https://www.stmarysballybeen.com/wp-content/uploads/2022/08/Website-Header-Registration-Night.png
END:VEVENT
BEGIN:VEVENT
DTSTART;VALUE=DATE:20220815
DTEND;VALUE=DATE:20220818
DTSTAMP:20260420T171215
CREATED:20220629T105122Z
LAST-MODIFIED:20220629T110452Z
UID:2132-1660521600-1660780799@www.stmarysballybeen.com
SUMMARY:Inside Out Holiday Bible Club
DESCRIPTION:Sign up for our Inside Out Holiday Bible Club! \nMonday 15th August – Wednesday 17th August 2022\n6.30pm – 8.30pm \nThis summer we’re running a Holiday Bible Club from the 15th – 17th August\, 6.30-8.30pm for all children P1 – P7 (this includes children going into P1 in September 2022). \nWe have 100 spaces ready to go\, so get in quick! Once you have signed up your child\, you will receive an email with the registration form. The registration form must be completed to secure your childs place.
URL:https://www.stmarysballybeen.com/event/inside-out-holiday-bible-club/
CATEGORIES:Children's Ministry
ATTACH;FMTTYPE=image/png:https://www.stmarysballybeen.com/wp-content/uploads/2022/06/Website-Featured-Header_Inside-Out-Signup.png
END:VEVENT
END:VCALENDAR